BEGIN:VCALENDAR
VERSION:2.0
CALSCALE:GREGORIAN
PRODID:-//WordPress//RSVPMaker//EN
METHOD:REQUEST
BEGIN:VEVENT
DTSTAMP:20260419T120725Z
UID:ADC961E9BEB67689B0EE5D49EE0B711D@rsvpmaker.com
SEQUENCE:0
STATUS:CONFIRMED
DTSTART:20261206T093000Z
DTEND:20261206T103000Z
LOCATION:See\: https\://walking.fleckney.online/rsvpmaker/short-sunday
 -walk-2026-12-06/
SUMMARY:2026:12-06: Short Sunday Walk
DESCRIPTION:Event info\: https\://walking.fleckney.online/rsvpmaker/sh
 ort-sunday-walk-2026-12-06/
END:VEVENT
END:VCALENDAR