BEGIN:VCALENDAR
VERSION:2.0
CALSCALE:GREGORIAN
PRODID:-//WordPress//RSVPMaker//EN
METHOD:REQUEST
BEGIN:VEVENT
DTSTAMP:20260419T120724Z
UID:6840F4A1C1D164848D46033274DFE8B4@rsvpmaker.com
SEQUENCE:0
STATUS:CONFIRMED
DTSTART:20261220T093000Z
DTEND:20261220T103000Z
LOCATION:See\: https\://walking.fleckney.online/rsvpmaker/short-sunday
 -walk-2026-12-20/
SUMMARY:2026-12-20: Short Sunday Walk
DESCRIPTION:Event info\: https\://walking.fleckney.online/rsvpmaker/sh
 ort-sunday-walk-2026-12-20/
END:VEVENT
END:VCALENDAR